BEGIN:VCALENDAR
VERSION:2.0
PRODID:-//Asociación Cultural Banda de Música de La Cistérniga - ECPv5.14.2.1//NONSGML v1.0//EN
CALSCALE:GREGORIAN
METHOD:PUBLISH
X-WR-CALNAME:Asociación Cultural Banda de Música de La Cistérniga
X-ORIGINAL-URL:https://www.bandamusicacisterniga.es
X-WR-CALDESC:Eventos para Asociación Cultural Banda de Música de La Cistérniga
BEGIN:VTIMEZONE
TZID:UTC
BEGIN:STANDARD
TZOFFSETFROM:+0000
TZOFFSETTO:+0000
TZNAME:UTC
DTSTART:20260101T000000
END:STANDARD
END:VTIMEZONE
BEGIN:VEVENT
DTSTART;TZID=UTC:20260522T000000
DTEND;TZID=UTC:20260522T000000
DTSTAMP:20260422T013058
CREATED:20260410T085142Z
LAST-MODIFIED:20260410T085252Z
UID:1648-1779408000-1779408000@www.bandamusicacisterniga.es
SUMMARY:Marcha Solidaria 2026. La Cistérniga
DESCRIPTION:Tradicional representación de la BMC en este evento organizado por el Ayuntamiento de La Cistérniga. Detalles próximamente.
URL:https://www.bandamusicacisterniga.es/evento-de-la-agenda/1648/
LOCATION:Calles de La Cistérniga\, La Cistérniga\, Valladolid\, España
END:VEVENT
END:VCALENDAR