BEGIN:VCALENDAR
VERSION:2.0
PRODID:-//Asociación Cultural Banda de Música de La Cistérniga - ECPv5.14.2.1//NONSGML v1.0//EN
CALSCALE:GREGORIAN
METHOD:PUBLISH
X-WR-CALNAME:Asociación Cultural Banda de Música de La Cistérniga
X-ORIGINAL-URL:https://www.bandamusicacisterniga.es
X-WR-CALDESC:Eventos para Asociación Cultural Banda de Música de La Cistérniga
BEGIN:VTIMEZONE
TZID:UTC
BEGIN:STANDARD
TZOFFSETFROM:+0000
TZOFFSETTO:+0000
TZNAME:UTC
DTSTART:20230101T000000
END:STANDARD
END:VTIMEZONE
BEGIN:VEVENT
DTSTART;TZID=UTC:20230401T200000
DTEND;TZID=UTC:20230401T210000
DTSTAMP:20260421T204446
CREATED:20230118T082803Z
LAST-MODIFIED:20230329T135415Z
UID:531-1680379200-1680382800@www.bandamusicacisterniga.es
SUMMARY:Concierto de Semana Santa 2023. Iglesia de San Ildefonso
DESCRIPTION:Concierto música sacra en la Iglesia parroquial de San Ildefonso en La Cistérniga. \nPuedes leer más sobre este concierto aquí. \nEntrada gratuita hasta completar aforo
URL:https://www.bandamusicacisterniga.es/evento-de-la-agenda/531/
LOCATION:iglesia San ildefonso\, Plaza Mayor\, 6\, Cistérniga\, Valladolid\, 47193\, España
END:VEVENT
END:VCALENDAR