BEGIN:VCALENDAR
VERSION:2.0
PRODID:-//Asociación Cultural Banda de Música de La Cistérniga - ECPv5.14.2.1//NONSGML v1.0//EN
CALSCALE:GREGORIAN
METHOD:PUBLISH
X-WR-CALNAME:Asociación Cultural Banda de Música de La Cistérniga
X-ORIGINAL-URL:https://www.bandamusicacisterniga.es
X-WR-CALDESC:Eventos para Asociación Cultural Banda de Música de La Cistérniga
BEGIN:VTIMEZONE
TZID:UTC
BEGIN:STANDARD
TZOFFSETFROM:+0000
TZOFFSETTO:+0000
TZNAME:UTC
DTSTART:20230101T000000
END:STANDARD
END:VTIMEZONE
BEGIN:VEVENT
DTSTART;TZID=UTC:20230409T120000
DTEND;TZID=UTC:20230409T150000
DTSTAMP:20260421T183538
CREATED:20230118T083226Z
LAST-MODIFIED:20230327T164306Z
UID:542-1681041600-1681052400@www.bandamusicacisterniga.es
SUMMARY:Procesión del Domingo de Resurrección. Toro (Zamora)
DESCRIPTION:Salida de Jesús Resucitado de la Iglesia del Santo Sepulcro\, para continuar por calle Zapateros\, calle Antigua\, calle del Amor de Dios\, puerta del Mercado (hasta la Glorieta) donde se producirá el encuentro con la Virgen\, que previamente ha salido de la Colegiata\, para continuar por paseo del Espolón\, calle Mayor\, hasta llegar a la plaza Mayor. \nAl producirse el encuentro\, se realizarán las “TRES VENIAS”\, retirando el velo de luto de la Virgen en la tercera venia.
URL:https://www.bandamusicacisterniga.es/evento-de-la-agenda/542/
LOCATION:Iglesia del Santo Sepulcro\, Plaza Mayor\, Toro\, Zamora\, 49800
END:VEVENT
END:VCALENDAR