BEGIN:VCALENDAR
VERSION:2.0
PRODID:-//Asociación Cultural Banda de Música de La Cistérniga - ECPv5.14.2.1//NONSGML v1.0//EN
CALSCALE:GREGORIAN
METHOD:PUBLISH
X-WR-CALNAME:Asociación Cultural Banda de Música de La Cistérniga
X-ORIGINAL-URL:https://www.bandamusicacisterniga.es
X-WR-CALDESC:Eventos para Asociación Cultural Banda de Música de La Cistérniga
BEGIN:VTIMEZONE
TZID:UTC
BEGIN:STANDARD
TZOFFSETFROM:+0000
TZOFFSETTO:+0000
TZNAME:UTC
DTSTART:20240101T000000
END:STANDARD
END:VTIMEZONE
BEGIN:VEVENT
DTSTART;TZID=UTC:20240113T190000
DTEND;TZID=UTC:20240113T210000
DTSTAMP:20260422T042057
CREATED:20231129T082037Z
LAST-MODIFIED:20240102T120737Z
UID:907-1705172400-1705179600@www.bandamusicacisterniga.es
SUMMARY:El viaje de la música. Teatro musicalizado
DESCRIPTION:Tienes una cita ineludible en la Casa de Cultura de La Cistérniga\, el próximo día 13 de enero\, a las 19:00\, para asistir a esta experiencia que aúna el teatro y la música.\nDe la mano de la inquietante profesora Nicol Basov y su ayudante\, el público asistirá y será partícipe de un viaje alucinante por el mundo\, la música y el tiempo. Personajes sorprendentes y estrafalarios\, y nuestra BMC\, nos guiarán por la historia y la música\, siempre con el objetivo irrenunciable de llegar al futuro: La Cistérniga\, 2130. ¿Lo conseguirán? No te lo pierdas.
URL:https://www.bandamusicacisterniga.es/evento-de-la-agenda/907/
LOCATION:AUDITORIO CASA DE CULTURA\, Calle Fuensaldaña s/n\, La Cistérniga\, España
ATTACH;FMTTYPE=image/jpeg:https://www.bandamusicacisterniga.es/wp-content/uploads/2024/01/MAQUINA-2.jpg
END:VEVENT
END:VCALENDAR