BEGIN:VCALENDAR
VERSION:2.0
PRODID:-//Asociación Cultural Banda de Música de La Cistérniga - ECPv5.14.2.1//NONSGML v1.0//EN
CALSCALE:GREGORIAN
METHOD:PUBLISH
X-WR-CALNAME:Asociación Cultural Banda de Música de La Cistérniga
X-ORIGINAL-URL:https://www.bandamusicacisterniga.es
X-WR-CALDESC:Eventos para Asociación Cultural Banda de Música de La Cistérniga
BEGIN:VTIMEZONE
TZID:UTC
BEGIN:STANDARD
TZOFFSETFROM:+0000
TZOFFSETTO:+0000
TZNAME:UTC
DTSTART:20240101T000000
END:STANDARD
END:VTIMEZONE
BEGIN:VEVENT
DTSTART;TZID=UTC:20240310T180000
DTEND;TZID=UTC:20240310T193000
DTSTAMP:20260422T044505
CREATED:20240131T102904Z
LAST-MODIFIED:20240310T125121Z
UID:1052-1710093600-1710099000@www.bandamusicacisterniga.es
SUMMARY:Concentración de Bandas Semana Santa 2024. La Cistérniga
DESCRIPTION:Otro año más\, este es el IV Certamen\, la BMC ha sido invitada a la concentración de bandas de cornetas y tambores que se celebra en fechas próximas a Semana Santa en la propia Cistérniga. CASA DE CULTURA. 18:00. Donativo 2€. \nLa BMC interpretará (H)Ossana in Excelsis\, de Óscar Navarro; Ave María\, arreglo de J. L  Gutiérrez de la obra de Vladimir Vavilov; Madre Hiniesta\, de Manuel Marvizón; y Mi amargura y La última noche\, ambas de Víctor M. Ferrer. Esta última es adaptación para marcha de procesión del poema sinfónico homónimo\, realizada también por nuestro director. \nEl acto será precedido por un pasacalles de las bandas participantes con el siguiente recorrido: \n  \nu
URL:https://www.bandamusicacisterniga.es/evento-de-la-agenda/concentracion-de-bandas-semana-santa-2024-la-cisterniga/
LOCATION:AUDITORIO CASA DE CULTURA\, Calle Fuensaldaña s/n\, La Cistérniga\, España
ATTACH;FMTTYPE=image/jpeg:https://www.bandamusicacisterniga.es/wp-content/uploads/2024/03/IMG-20240223-WA0002.jpg
END:VEVENT
END:VCALENDAR