BEGIN:VCALENDAR
VERSION:2.0
PRODID:-//Asociación Cultural Banda de Música de La Cistérniga - ECPv5.14.2.1//NONSGML v1.0//EN
CALSCALE:GREGORIAN
METHOD:PUBLISH
X-WR-CALNAME:Asociación Cultural Banda de Música de La Cistérniga
X-ORIGINAL-URL:https://www.bandamusicacisterniga.es
X-WR-CALDESC:Eventos para Asociación Cultural Banda de Música de La Cistérniga
BEGIN:VTIMEZONE
TZID:UTC
BEGIN:STANDARD
TZOFFSETFROM:+0000
TZOFFSETTO:+0000
TZNAME:UTC
DTSTART:20250101T000000
END:STANDARD
END:VTIMEZONE
BEGIN:VEVENT
DTSTART;TZID=UTC:20251115T190000
DTEND;TZID=UTC:20251115T200000
DTSTAMP:20260422T025615
CREATED:20250526T092858Z
LAST-MODIFIED:20251114T185113Z
UID:1458-1763233200-1763236800@www.bandamusicacisterniga.es
SUMMARY:Concierto de Santa Cecilia 2025
DESCRIPTION:Próxima a su 25 aniversario (2026)\, el 15 de noviembre la BMC (Banda Municipal de Música de La Cistérniga) ofrece un concierto en homenaje a Sta. Cecilia.\nDía: 15 noviembre\, sábado\nDónde: Casa Cultura La Cistérniga\nPrecio: Gratuito (3€ donativo AECC)\nHora: 19:00\nRepertorio:\n– Churumbelerías\, de Emilio Cebrián (pasodoble).\n– La Ruta del Cid\, de David Rivas (poema sinfónico).\n– West Side Story\, de Leonard Bernstein (música de la película\, arr. Iwai).\n– Robin Hood Symphonic Suite\, de Muchael Kamen (arr. Lavender).\n– Coldplay on Stage\, vvaa (arr. Brown).\n– Symphonic Rock. The Music of Queen and Genesis. Arr. Tinner
URL:https://www.bandamusicacisterniga.es/evento-de-la-agenda/concierto-de-santa-cecilia-2025/
LOCATION:AUDITORIO CASA DE CULTURA\, Calle Fuensaldaña s/n\, La Cistérniga\, España
ATTACH;FMTTYPE=image/jpeg:https://www.bandamusicacisterniga.es/wp-content/uploads/2025/11/Imagen-de-WhatsApp-2025-10-30-a-las-17.09.19_81f55a86.jpg
END:VEVENT
END:VCALENDAR