BEGIN:VCALENDAR
VERSION:2.0
PRODID:-//Asociación Cultural Banda de Música de La Cistérniga - ECPv5.14.2.1//NONSGML v1.0//EN
CALSCALE:GREGORIAN
METHOD:PUBLISH
X-WR-CALNAME:Asociación Cultural Banda de Música de La Cistérniga
X-ORIGINAL-URL:https://www.bandamusicacisterniga.es
X-WR-CALDESC:Eventos para Asociación Cultural Banda de Música de La Cistérniga
BEGIN:VTIMEZONE
TZID:UTC
BEGIN:STANDARD
TZOFFSETFROM:+0000
TZOFFSETTO:+0000
TZNAME:UTC
DTSTART:20250101T000000
END:STANDARD
END:VTIMEZONE
BEGIN:VEVENT
DTSTART;TZID=UTC:20251227T183000
DTEND;TZID=UTC:20251227T193000
DTSTAMP:20260422T041936
CREATED:20250526T093046Z
LAST-MODIFIED:20251120T175144Z
UID:1460-1766860200-1766863800@www.bandamusicacisterniga.es
SUMMARY:La máquina del tiempo 2.0
DESCRIPTION:¿Es posible que nuestra más divertida y alocada doctora esté a punto de volver para visitar\, perdón\, revolver y enredar en el pasado? \nPróximamente más detalles sobre esta disparatada historia.
URL:https://www.bandamusicacisterniga.es/evento-de-la-agenda/concierto-teatralizado-de-navidad-2025/
LOCATION:AUDITORIO CASA DE CULTURA\, Calle Fuensaldaña s/n\, La Cistérniga\, España
ATTACH;FMTTYPE=image/jpeg:https://www.bandamusicacisterniga.es/wp-content/uploads/2025/11/concierto-navidad-2025.jpg
END:VEVENT
END:VCALENDAR