BEGIN:VCALENDAR
VERSION:2.0
PRODID:-//Asociación Cultural Banda de Música de La Cistérniga - ECPv5.14.2.1//NONSGML v1.0//EN
CALSCALE:GREGORIAN
METHOD:PUBLISH
X-WR-CALNAME:Asociación Cultural Banda de Música de La Cistérniga
X-ORIGINAL-URL:https://www.bandamusicacisterniga.es
X-WR-CALDESC:Eventos para Asociación Cultural Banda de Música de La Cistérniga
BEGIN:VTIMEZONE
TZID:UTC
BEGIN:STANDARD
TZOFFSETFROM:+0000
TZOFFSETTO:+0000
TZNAME:UTC
DTSTART:20250101T000000
END:STANDARD
END:VTIMEZONE
BEGIN:VEVENT
DTSTART;TZID=UTC:20250713T103000
DTEND;TZID=UTC:20250713T113000
DTSTAMP:20260422T041621
CREATED:20250403T065751Z
LAST-MODIFIED:20250708T102228Z
UID:1418-1752402600-1752406200@www.bandamusicacisterniga.es
SUMMARY:De plaza en plaza. Pasacalles con motivo de las fiestas patronales de La Cistérniga 2025
DESCRIPTION:Hora inicio: 10:30 \nLugar: Calles y plazas del municipio.
URL:https://www.bandamusicacisterniga.es/evento-de-la-agenda/de-plaza-en-plaza-pasacalles-con-motivo-de-las-fiestas-patronales-de-la-cisterniga-2025/
LOCATION:Calles de La Cistérniga\, La Cistérniga\, Valladolid\, España
ATTACH;FMTTYPE=image/jpeg:https://www.bandamusicacisterniga.es/wp-content/uploads/2025/07/banda-en-fiestas.jpg
END:VEVENT
END:VCALENDAR