BEGIN:VCALENDAR
VERSION:2.0
PRODID:-//Asociación Cultural Banda de Música de La Cistérniga - ECPv5.14.2.1//NONSGML v1.0//EN
CALSCALE:GREGORIAN
METHOD:PUBLISH
X-WR-CALNAME:Asociación Cultural Banda de Música de La Cistérniga
X-ORIGINAL-URL:https://www.bandamusicacisterniga.es
X-WR-CALDESC:Eventos para Asociación Cultural Banda de Música de La Cistérniga
BEGIN:VTIMEZONE
TZID:UTC
BEGIN:STANDARD
TZOFFSETFROM:+0000
TZOFFSETTO:+0000
TZNAME:UTC
DTSTART:20250101T000000
END:STANDARD
END:VTIMEZONE
BEGIN:VEVENT
DTSTART;TZID=UTC:20250621T200000
DTEND;TZID=UTC:20250621T213000
DTSTAMP:20260422T031212
CREATED:20250131T094407Z
LAST-MODIFIED:20250611T080322Z
UID:1322-1750536000-1750541400@www.bandamusicacisterniga.es
SUMMARY:Encuentro de bandas. Renedo de Esgueva (Valladolid)
DESCRIPTION:Invitada por la Banda de Música de Renedo de Esgueva\, la BMC participará en este encuentro de bandas\, junto a la propia banda de Renedo y la Asociación Musical ‘San Nicolás’ de Pollos. En el transcurso del concierto las tres bandas interpretarán conjuntamente el himno de Renedo de Esgueva\, de F. Arminio\, así como\, ya por separado\, pasodobles\, adaptaciones de música pop\, de bandas sonoras…\, en la plaza de El Guindo de Renedo. \nHabrá un previo pasacalles para invitar a los renedenses a sumarse al concierto por las inmediaciones de la localidad a partir de las 19:30.
URL:https://www.bandamusicacisterniga.es/evento-de-la-agenda/encuentro-de-bandas-renedo-de-esgueva/
LOCATION:Plaza del Guindo\, Renedo de Esgueva (Valladolid)\, plaza del Guindo\, Renedo de Esgueva\, Spain
ATTACH;FMTTYPE=image/jpeg:https://www.bandamusicacisterniga.es/wp-content/uploads/2025/06/encuentro-bandas-renedo-2025.jpg
END:VEVENT
END:VCALENDAR