BEGIN:VCALENDAR
VERSION:2.0
PRODID:-//Asociación Cultural Banda de Música de La Cistérniga - ECPv5.14.2.1//NONSGML v1.0//EN
CALSCALE:GREGORIAN
METHOD:PUBLISH
X-WR-CALNAME:Asociación Cultural Banda de Música de La Cistérniga
X-ORIGINAL-URL:https://www.bandamusicacisterniga.es
X-WR-CALDESC:Eventos para Asociación Cultural Banda de Música de La Cistérniga
BEGIN:VTIMEZONE
TZID:UTC
BEGIN:STANDARD
TZOFFSETFROM:+0000
TZOFFSETTO:+0000
TZNAME:UTC
DTSTART:20220101T000000
END:STANDARD
END:VTIMEZONE
BEGIN:VEVENT
DTSTART;TZID=UTC:20221126T200000
DTEND;TZID=UTC:20221126T210000
DTSTAMP:20260422T043933
CREATED:20221102T174816Z
LAST-MODIFIED:20221121T111651Z
UID:383-1669492800-1669496400@www.bandamusicacisterniga.es
SUMMARY:Santa Cecilia: La BMC en Casa Cultura\, La Cistérniga
DESCRIPTION:El próximo 26 de noviembre la [BMC] llevará a cabo un concierto en honor y homenaje de la patrona de los músicos\, Santa Cecilia\, en su sede de la Casa de Cultura de La Cistérniga (Valladolid). Del variado repertorio\, cabe destacar: \n\nAngus y la doncella mágica\, de David Rivas. Inspirado en una leyenda celta\, el compositor toresano nos acerca a escenas musicales en las que princesas\, magos y enamorados\, vivirán sus pasiones en el marco de un cuento medieval.\nIreland: Of Lengend and Lore\, de Robert W. Smith. Un recorrido por afamadas tonadas del folklore irlandés.\nLa concha flamenca\, de Perfecto Artola. Hermoso pasodoble.\nThe last of the Mohicans\, de Trevor Jones. Banda sonora de la película El último mohicano\, de Michael Mann\, que narra las peripecias de Hawkeye\, hombre blanco adoptado por los indios. Historia de amor y aventuras en el marco de las guerras franco-británicas por dominar el territorio canadiense. Durante la interpretación se proyectarán escenas de la pelicula.\nSuspiros de España\, de Antonio Álvarez Alonso. Pasodoble eterno.\nDeep Purple Medley. Con arreglo de Toshihiko Sahashi\, repasa los éxitos de la célebre banda de rock inglesa (Burn\, Higway Star\, Smoke on the Water).\nLatin Favourites\, con arreglo de Peter Kleine Schaars. Una ocasión para volver a escuchar famosas tonadas latinas como: Bésame mucho\, Guantanamera\, Quando\, quando\, quando.\nLibertango\, de Astor Piazzola\, con arreglo para banda de Marco Somadossi. Quizá la más famosa de las piezas del autor argentino\, que nos trasladarán a los ritmos y sabores de la capital porteña.\n\nComo en otras ocasiones\, la Asociación Española de Lucha contra el Cáncer recaudará un donativo de 1 euro por asistente para sus fines benéficos e importante labor preventiva. \nNo debes perdértelo. \n 
URL:https://www.bandamusicacisterniga.es/evento-de-la-agenda/la-bmc-en-casa-cultura-la-cisterniga/
LOCATION:AUDITORIO CASA DE CULTURA\, Calle Fuensaldaña s/n\, La Cistérniga\, España
END:VEVENT
END:VCALENDAR