BEGIN:VCALENDAR
VERSION:2.0
PRODID:-//Asociación Cultural Banda de Música de La Cistérniga - ECPv5.14.2.1//NONSGML v1.0//EN
CALSCALE:GREGORIAN
METHOD:PUBLISH
X-WR-CALNAME:Asociación Cultural Banda de Música de La Cistérniga
X-ORIGINAL-URL:https://www.bandamusicacisterniga.es
X-WR-CALDESC:Eventos para Asociación Cultural Banda de Música de La Cistérniga
BEGIN:VTIMEZONE
TZID:UTC
BEGIN:STANDARD
TZOFFSETFROM:+0000
TZOFFSETTO:+0000
TZNAME:UTC
DTSTART:20240101T000000
END:STANDARD
END:VTIMEZONE
BEGIN:VEVENT
DTSTART;TZID=UTC:20240714T103000
DTEND;TZID=UTC:20240714T103000
DTSTAMP:20260422T030754
CREATED:20240131T104544Z
LAST-MODIFIED:20240712T153805Z
UID:1067-1720953000-1720953000@www.bandamusicacisterniga.es
SUMMARY:Pasacalles en las fiestas de La Cistérniga
DESCRIPTION:
URL:https://www.bandamusicacisterniga.es/evento-de-la-agenda/pasacalles-en-las-fiestas-de-la-cisterniga/
LOCATION:Calles de La Cistérniga\, La Cistérniga\, Valladolid\, España
END:VEVENT
END:VCALENDAR