BEGIN:VCALENDAR
VERSION:2.0
PRODID:-//Asociación Cultural Banda de Música de La Cistérniga - ECPv5.14.2.1//NONSGML v1.0//EN
CALSCALE:GREGORIAN
METHOD:PUBLISH
X-WR-CALNAME:Asociación Cultural Banda de Música de La Cistérniga
X-ORIGINAL-URL:https://www.bandamusicacisterniga.es
X-WR-CALDESC:Eventos para Asociación Cultural Banda de Música de La Cistérniga
BEGIN:VTIMEZONE
TZID:UTC
BEGIN:STANDARD
TZOFFSETFROM:+0000
TZOFFSETTO:+0000
TZNAME:UTC
DTSTART:20240101T000000
END:STANDARD
END:VTIMEZONE
BEGIN:VEVENT
DTSTART;TZID=UTC:20240331T120000
DTEND;TZID=UTC:20240331T130000
DTSTAMP:20260422T043221
CREATED:20240131T104120Z
LAST-MODIFIED:20240318T082808Z
UID:1063-1711886400-1711890000@www.bandamusicacisterniga.es
SUMMARY:Procesión del Domingo de Resurrección. Toro (Zamora)
DESCRIPTION:Otro año más la BMC participará en la Semana Santa toresana.
URL:https://www.bandamusicacisterniga.es/evento-de-la-agenda/procesion-del-domingo-de-resurreccion-toro-zamora/
LOCATION:Iglesia del Santo Sepulcro\, Plaza Mayor\, Toro\, Zamora\, 49800
ATTACH;FMTTYPE=image/jpeg:https://www.bandamusicacisterniga.es/wp-content/uploads/2024/03/6536617.jpeg
END:VEVENT
END:VCALENDAR