BEGIN:VCALENDAR
VERSION:2.0
PRODID:-//Asociación Cultural Banda de Música de La Cistérniga - ECPv5.14.2.1//NONSGML v1.0//EN
CALSCALE:GREGORIAN
METHOD:PUBLISH
X-WR-CALNAME:Asociación Cultural Banda de Música de La Cistérniga
X-ORIGINAL-URL:https://www.bandamusicacisterniga.es
X-WR-CALDESC:Eventos para Asociación Cultural Banda de Música de La Cistérniga
BEGIN:VTIMEZONE
TZID:UTC
BEGIN:STANDARD
TZOFFSETFROM:+0000
TZOFFSETTO:+0000
TZNAME:UTC
DTSTART:20250101T000000
END:STANDARD
END:VTIMEZONE
BEGIN:VEVENT
DTSTART;TZID=UTC:20250316T180000
DTEND;TZID=UTC:20250316T190000
DTSTAMP:20260422T030251
CREATED:20250131T101700Z
LAST-MODIFIED:20250228T094258Z
UID:1327-1742148000-1742151600@www.bandamusicacisterniga.es
SUMMARY:V Certamen Marchas de Procesión. La Cistérniga
DESCRIPTION:Como en años anteriores\, la BMC ha sido invitada a participar en el Certamen Anual de Marchas de Procesión para bandas de cornetas y tambores en fechas próximas a la celebración de la Semana Santa 2025. En este quinto certamen que se celebra\, como viene siendo habitual\, en La Cistérniga\, las diferentes agrupaciones musicales interpretarán obras de uso específico para Semana Santa. \nA la actuación\, que tendrá lugar en la Casa de Cultura a las 18.00 h. precederá un breve pasacalles por las inmediaciones del auditorio. \nEn esta ocasión\, además de la BMC\, participarán las siguientes agrupaciones: \n\nBanda de CC y TT Ntro. Padre Jesús Nazareno (Peñafiel)\nBanda de CC y TT Ntra. Sra. de la Piedad (Valladolid)\nBanda de Gaitas Ntra. Sra. de la Piedad (Valladolid)\nBanda de CC y TT Santo Sepulcro (Valladolid)\n\nPara la invitación se requerirá un donativo de 3 € que irá destinado a la labor del Centro Juvenil Saiano de La Cistérniga. \nLas invitaciones se pueden conseguir en las taquillas de la Casa de Cultura; o en el propio centro juvenil y en la parroquia sitas en la plaza Mayor\, 6\, de esta localidad.
URL:https://www.bandamusicacisterniga.es/evento-de-la-agenda/v-certamen-marchas-de-procesion/
LOCATION:AUDITORIO CASA DE CULTURA\, Calle Fuensaldaña s/n\, La Cistérniga\, España
ATTACH;FMTTYPE=image/jpeg:https://www.bandamusicacisterniga.es/wp-content/uploads/2025/01/Imagen-de-WhatsApp-2025-02-27-a-las-11.49.45_56a16003.jpg
END:VEVENT
END:VCALENDAR