BEGIN:VCALENDAR
VERSION:2.0
PRODID:-//Asociación Cultural Banda de Música de La Cistérniga - ECPv5.14.2.1//NONSGML v1.0//EN
CALSCALE:GREGORIAN
METHOD:PUBLISH
X-WR-CALNAME:Asociación Cultural Banda de Música de La Cistérniga
X-ORIGINAL-URL:https://www.bandamusicacisterniga.es
X-WR-CALDESC:Eventos para Asociación Cultural Banda de Música de La Cistérniga
BEGIN:VTIMEZONE
TZID:UTC
BEGIN:STANDARD
TZOFFSETFROM:+0000
TZOFFSETTO:+0000
TZNAME:UTC
DTSTART:20230101T000000
END:STANDARD
END:VTIMEZONE
BEGIN:VEVENT
DTSTART;TZID=UTC:20230224T190000
DTEND;TZID=UTC:20230224T210000
DTSTAMP:20260422T010219
CREATED:20230214T103923Z
LAST-MODIFIED:20230214T170341Z
UID:603-1677265200-1677272400@www.bandamusicacisterniga.es
SUMMARY:VIA CRUCIS. El musical\, en concierto
DESCRIPTION:  \n \n  \nBajo el lema ‘Revive la Pasión’ y con música de Toño Casado\, se presenta en Valladolid el musical Via Crucis\, después de triunfar en la Mezquita Catedral de Córdoba y en La Almudena de Madrid. \nEl evento tendrá lugar el próximo viernes 24 de febrero\, en la Catedral de Valladolid con la colaboración especial de la Banda Municipal de Música de La Cistérniga\, con pases a las 19:00 y 21:00 h. en dos funciones llenas de música\, fe y pasión. \nA las 11:00 h. tendrá lugar un pase para colegios. \nPuedes adquirir tus localidades de modo online en catik.org/es o\, presencialmente\, en Librerías Paulinas\, en la calle Angustias\, 5\, de Valladolid. \n 
URL:https://www.bandamusicacisterniga.es/evento-de-la-agenda/via-crucis-el-musical/
LOCATION:Catedral Valladolid\, calle arribas\,1\, valladolid\, 47002\, España
END:VEVENT
END:VCALENDAR